BEGIN:VCALENDAR
VERSION:2.0
PRODID:-//hacksw/handcal//NONSGML v1.0//EN
BEGIN:VEVENT
SUMMARY:Championnat regionnal 3 D juniors/seniors Bougainville
UID:b878c320-1216-4678-a857-d9598938c88d
DTSTART:20260411T220000Z
DTEND:20260412T220000Z
LOCATION:Localisation   
CATEGORIES:Sportif
STATUS:
DESCRIPTION:<div><span
 id="ctl00_ContentPlaceContent_pbarEvent_i0_lbCompetition">COMPETITION
 / INDIVIDUELLE / <b>JUNIORS-SENIOR</b> -</span></div>
 
 <div><span
 id="ctl00_ContentPlaceContent_pbarEvent_i0_lbDate">Le 12/04/2026
 -</span></div>
 
 <div><span
 id="ctl00_ContentPlaceContent_pbarEvent_i0_lbLieu">DOJO REGIONAL DE
 BOUGAINVILLE</span><br>
 <span
 id="ctl00_ContentPlaceContent_pbarEvent_i0_lbAdresse">6 BOULEVARD DE
 SEVIGNE </span></div>
 
 <div><span>13015,
 MARSEILLE</span></div>
 
 <div>
 <p>- 9h/9h30 - Debut des combats 10h :
 Toutes les categories feminines</p>
 
 <p>- 12h30/13h - Debut des
 combats 13h30 : Toutes les categories masculines</p>
 
 <p>Selectif
 vers les Championnats de France 3e division</p>
 </div>
URL;VALUE=URI:https://www.escljudo.com/evenements/2026/04/12/championnat-regionnal-3-d-juniorsseniors-bougainville-2439545
END:VEVENT
END:VCALENDAR
